Workbook

Sheet Octobre 2022
E1: Font d'Alagnon | G1: Chapelle d'Alagnon
A2: Ordre de Polluto-Sensibilité | B2: Ordre | C2: Ordre de Polluto-Sensibilité de l'espèce | D2: Espèce | E2: Espèce trouvée ? | F2: Nombre d'individus | G2: Espèce trouvée ? | H2: Nombre d'individus
A3: 1 | B3: Plécoptères | C3: 1 | D3: Larve de Perle | E3: =IF(F3>0,1,0) -> 1 | F3: 3 | G3: =IF(H3>0,1,0) -> 0 | H3: 0
A4: 2 | B4: Trichoptères | C4: 2 | D4: Larve de Trichoptère à fourreau | E4: =IF(F4>0,1,0) -> 1 | F4: 1 | G4: =IF(H4>0,1,0) -> 0 | H4: 0
A5: 2 | B5: Trichoptères | C5: 3 | D5: Larve de Trichoptère sans fourreau | E5: =IF(F5>0,1,0) -> 0 | F5: 0 | G5: =IF(H5>0,1,0) -> 0 | H5: 0
A6: 3 | B6: Ephéméroptères | C6: 4 | D6: Larve d'Ephémère | E6: =IF(F6>0,1,0) -> 1 | F6: 6 | G6: =IF(H6>0,1,0) -> 1 | H6: 1
A7: 4 | B7: Crustacés | C7: 5 | D7: Gammare | E7: =IF(F7>0,1,0) -> 0 | F7: 0 | G7: =IF(H7>0,1,0) -> 0 | H7: 0
A8: 5 | B8: Crustacés | C8: 6 | D8: Aselle | E8: =IF(F8>0,1,0) -> 0 | F8: 0 | G8: =IF(H8>0,1,0) -> 0 | H8: 0
A9: 4 | B9: Mollusques | C9: 7 | D9: Limnée | E9: =IF(F9>0,1,0) -> 0 | F9: 0 | G9: =IF(H9>0,1,0) -> 0 | H9: 0
A10: 4 | B10: Mollusques | C10: 8 | D10: Ancyle | E10: =IF(F10>0,1,0) -> 0 | F10: 0 | G10: =IF(H10>0,1,0) -> 0 | H10: 0
A11: N/A | B11: Odonates | C11: 9 | D11: Larve de Demoiselle | E11: =IF(F11>0,1,0) -> 0 | F11: 0 | G11: =IF(H11>0,1,0) -> 1 | H11: 1
A12: N/A | B12: Odonates | C12: 10 | D12: Larve de Libellule | E12: =IF(F12>0,1,0) -> 0 | F12: 0 | G12: =IF(H12>0,1,0) -> 0 | H12: 0
A13: N/A | B13: Plathelmintes | C13: 11 | D13: Planaire | E13: =IF(F13>0,1,0) -> 1 | F13: 3 | G13: =IF(H13>0,1,0) -> 0 | H13: 0
A14: 5 | B14: Achètes | C14: 12 | D14: Sangsue | E14: =IF(F14>0,1,0) -> 0 | F14: 0 | G14: =IF(H14>0,1,0) -> 0 | H14: 0
A15: 6 | B15: Diptères | C15: 13 | D15: Larve de Chironome | E15: =IF(F15>0,1,0) -> 0 | F15: 0 | G15: =IF(H15>0,1,0) -> 1 | H15: 4
A16: 6 | B16: Diptères | C16: 14 | D16: Larve de Simulie | E16: =IF(F16>0,1,0) -> 1 | F16: 1 | G16: =IF(H16>0,1,0) -> 0 | H16: 0
A17: 6 | B17: Diptères | C17: 15 | D17: Autres larves de Diptères | E17: =IF(F17>0,1,0) -> 0 | F17: 0 | G17: =IF(H17>0,1,0) -> 0 | H17: 0
A18: N/A | B18: Mégaloptères | C18: 16 | D18: Larve de Sialis | E18: =IF(F18>0,1,0) -> 1 | F18: 6 | G18: =IF(H18>0,1,0) -> 0 | H18: 0
A19: N/A | B19: Coléoptères | C19: 17 | D19: Larve de Dytique | E19: =IF(F19>0,1,0) -> 1 | F19: 1 | G19: =IF(H19>0,1,0) -> 0 | H19: 0
A20: N/A | B20: Coléoptères | C20: 18 | D20: Larve de Coléoptère aquatique | E20: =IF(F20>0,1,0) -> 0 | F20: 0 | G20: =IF(H20>0,1,0) -> 0 | H20: 0
A21: N/A | B21: Hétéroptères | C21: 19 | D21: Nèpe | E21: =IF(F21>0,1,0) -> 0 | F21: 0 | G21: =IF(H21>0,1,0) -> 0 | H21: 0
A22: N/A | B22: Hétéroptères | C22: 20 | D22: Punaise aquatique (Notonecte) | E22: =IF(F22>0,1,0) -> 0 | F22: 0 | G22: =IF(H22>0,1,0) -> 0 | H22: 0
A23: N/A | B23: Hétéroptères | C23: 21 | D23: Gerris | E23: =IF(F23>0,1,0) -> 0 | F23: 0 | G23: =IF(H23>0,1,0) -> 1 | H23: 1
A24: N/A | B24: Oligochètes | C24: 22 | D24: Ver | E24: =IF(F24>0,1,0) -> 0 | F24: 0 | G24: =IF(H24>0,1,0) -> 0 | H24: 0
D25: total | E25: =SUM(E3:E23) -> 7 | F25: =SUM(F3:F23) -> 21 | G25: =SUM(G3:G23) -> 4 | H25: =SUM(H3:H23) -> 7

Sheet Prélèvements
H1: Plécoptères | I1: Trichoptères | J1: Trichoptères | K1: Ephéméroptères | L1: Crustacés | M1: Crustacés | N1: Mollusques | O1: Mollusques | P1: Odonates | Q1: Odonates | R1: Plathelmintes | S1: Achètes | T1: Diptères | U1: Diptères | V1: Diptères | W1: Mégaloptères | X1: Coléoptères | Y1: Coléoptères | Z1: Hétéroptères | AA1: Hétéroptères | AB1: Hétéroptères | AC1: Oligochètes
A2: Lieu | B2: Date de prélèvement | C2: Nombre d'Espèces trouvrées | D2: Colonne de référence du nombre d'espèces recensées | E2: Ligne de l'onglet Excell de Référence de Polluto-Sensibilité | F2: Indice de qualité biotique (note sur 10) | G2: Interprétation de l'indice | H2: Larve de Perle | I2: Larve de Trichoptère à fourreau | J2: Larve de Trichoptère sans fourreau | K2: Larve d'Ephémère | L2: Gammare | M2: Aselle | N2: Limnée | O2: Ancyle | P2: Larve de Demoiselle | Q2: Larve de Libellule | R2: Planaire | S2: Sangsue | T2: Larve de Chironome | U2: Larve de Simulie | V2: Autres larves de Diptères | W2: Larve de Sialis | X2: Larve de Dytique | Y2: Larve de Coléoptère aquatique | Z2: Nèpe | AA2: Punaise aquatique (Notonecte) | AB2: Gerris | AC2: Ver
A3: Font d'Alagnon | B3: 44835 | C3: =SUM(IF(H3>0,1,0),IF(I3>0,1,0),IF(J3>0,1,0),IF(K3>0,1,0),IF(L3>0,1,0),IF(M3>0,1,0),IF(N3>0,1,0),IF(O3>0,1,0),IF(P3>0,1,0),IF(Q3>0,1,0),IF(R3>0,1,0),IF(S3>0,1,0),IF(T3>0,1,0),IF(U3>0,1,0),IF(V3>0,1,0),IF(W3>0,1,0),IF(X3>0,1,0),IF(Y3>0,1,0),IF(Z3>0,1,0),IF(AA3>0,1,0),IF(AB3>0,1,0),IF(AC3>0,1,0),IF(AD3>0,1,0)) -> 7 | D3: =INDIRECT(ADDRESS(2,COLUMN('Référence Polluto-Sensibilté'!F:F)-1+IF(C3=1,1,IF(C3<=5,2,IF(C3<=10,3,IF(C3<=15,4,IF(C3>=16,5,"ERROR"))))),1,1,"Référence Polluto-Sensibilté")) -> 6 à 10 espèces | E3: =ROW('Référence Polluto-Sensibilté'!$2:$2)+_xlfn.IFS(H3>0,0,I3>0,1,J3>0,2,K3>0,3,L3>0,4,M3>0,5,N3>0,6,O3>0,7,P3>0,8,Q3>0,9,R3>0,10,S3>0,11,T3>0,12,U3>0,13,V3>0,14,W3>0,15,X3>0,16,Y3>0,17,Z3>0,18,AA3>0,19,AB3>0,20) -> 2 | F3: =HLOOKUP(D3,'Référence Polluto-Sensibilté'!$F$2:$J$24,E3+1,FALSE) -> 6.5 | G3: =IF(F3<=2.5,"Pollution très forte",IF(F3<=5,"Pollution forte",IF(F3<=7.5,"Pollution faible","Pollution très faible à nulle"))) -> Pollution faible | H3: 3 | I3: 1 | J3: 0 | K3: 6 | L3: 0 | M3: 0 | N3: 0 | O3: 0 | P3: 0 | Q3: 0 | R3: 3 | S3: 0 | T3: 0 | U3: 1 | V3: 0 | W3: 6 | X3: 1 | Y3: 0 | Z3: 0 | AA3: 0 | AB3: 0 | AC3: 0
A4: Chapelle d'Alagnon | B4: 44835 | C4: =SUM(IF(H4>0,1,0),IF(I4>0,1,0),IF(J4>0,1,0),IF(K4>0,1,0),IF(L4>0,1,0),IF(M4>0,1,0),IF(N4>0,1,0),IF(O4>0,1,0),IF(P4>0,1,0),IF(Q4>0,1,0),IF(R4>0,1,0),IF(S4>0,1,0),IF(T4>0,1,0),IF(U4>0,1,0),IF(V4>0,1,0),IF(W4>0,1,0),IF(X4>0,1,0),IF(Y4>0,1,0),IF(Z4>0,1,0),IF(AA4>0,1,0),IF(AB4>0,1,0),IF(AC4>0,1,0),IF(AD4>0,1,0)) -> 4 | D4: =INDIRECT(ADDRESS(2,COLUMN('Référence Polluto-Sensibilté'!F:F)-1+IF(C4=1,1,IF(C4<=5,2,IF(C4<=10,3,IF(C4<=15,4,IF(C4>=16,5,"ERROR"))))),1,1,"Référence Polluto-Sensibilté")) -> 2 à 5 espèces | E4: =ROW('Référence Polluto-Sensibilté'!$2:$2)+_xlfn.IFS(H4>0,0,I4>0,1,J4>0,2,K4>0,3,L4>0,4,M4>0,5,N4>0,6,O4>0,7,P4>0,8,Q4>0,9,R4>0,10,S4>0,11,T4>0,12,U4>0,13,V4>0,14,W4>0,15,X4>0,16,Y4>0,17,Z4>0,18,AA4>0,19,AB4>0,20) -> 5 | F4: =HLOOKUP(D4,'Référence Polluto-Sensibilté'!$F$2:$J$24,E4+1,FALSE) -> 4 | G4: =IF(F4<=2.5,"Pollution très forte",IF(F4<=5,"Pollution forte",IF(F4<=7.5,"Pollution faible","Pollution très faible à nulle"))) -> Pollution forte | H4: 0 | I4: 0 | J4: 0 | K4: 1 | L4: 0 | M4: 0 | N4: 0 | O4: 0 | P4: 1 | Q4: 0 | R4: 0 | S4: 0 | T4: 4 | U4: 0 | V4: 0 | W4: 0 | X4: 0 | Y4: 0 | Z4: 0 | AA4: 0 | AB4: 1 | AC4: 0
A5: Font d'Alagnon | B5: 45108 | C5: =SUM(IF(H5>0,1,0),IF(I5>0,1,0),IF(J5>0,1,0),IF(K5>0,1,0),IF(L5>0,1,0),IF(M5>0,1,0),IF(N5>0,1,0),IF(O5>0,1,0),IF(P5>0,1,0),IF(Q5>0,1,0),IF(R5>0,1,0),IF(S5>0,1,0),IF(T5>0,1,0),IF(U5>0,1,0),IF(V5>0,1,0),IF(W5>0,1,0),IF(X5>0,1,0),IF(Y5>0,1,0),IF(Z5>0,1,0),IF(AA5>0,1,0),IF(AB5>0,1,0),IF(AC5>0,1,0),IF(AD5>0,1,0)) -> 7 | D5: =INDIRECT(ADDRESS(2,COLUMN('Référence Polluto-Sensibilté'!F:F)-1+IF(C5=1,1,IF(C5<=5,2,IF(C5<=10,3,IF(C5<=15,4,IF(C5>=16,5,"ERROR"))))),1,1,"Référence Polluto-Sensibilté")) -> 6 à 10 espèces | E5: =ROW('Référence Polluto-Sensibilté'!$2:$2)+_xlfn.IFS(H5>0,0,I5>0,1,J5>0,2,K5>0,3,L5>0,4,M5>0,5,N5>0,6,O5>0,7,P5>0,8,Q5>0,9,R5>0,10,S5>0,11,T5>0,12,U5>0,13,V5>0,14,W5>0,15,X5>0,16,Y5>0,17,Z5>0,18,AA5>0,19,AB5>0,20) -> 2 | F5: =HLOOKUP(D5,'Référence Polluto-Sensibilté'!$F$2:$J$24,E5+1,FALSE) -> 6.5 | G5: =IF(F5<=2.5,"Pollution très forte",IF(F5<=5,"Pollution forte",IF(F5<=7.5,"Pollution faible","Pollution très faible à nulle"))) -> Pollution faible | H5: 25 | I5: =ROUNDDOWN(67/2,0) -> 33 | J5: =ROUNDUP(67/2,0) -> 34 | K5: =15+2+25+21 -> 63 | L5: 0 | M5: 0 | N5: 1 | O5: 0 | P5: 0 | Q5: 0 | R5: 0 | S5: 4 | T5: 0 | U5: 0 | V5: 0 | W5: 0 | X5: 0 | Y5: 1 | Z5: 0 | AA5: 0 | AB5: 0 | AC5: 0
A6: Chapelle d'Alagnon | B6: 45108 | C6: =SUM(IF(H6>0,1,0),IF(I6>0,1,0),IF(J6>0,1,0),IF(K6>0,1,0),IF(L6>0,1,0),IF(M6>0,1,0),IF(N6>0,1,0),IF(O6>0,1,0),IF(P6>0,1,0),IF(Q6>0,1,0),IF(R6>0,1,0),IF(S6>0,1,0),IF(T6>0,1,0),IF(U6>0,1,0),IF(V6>0,1,0),IF(W6>0,1,0),IF(X6>0,1,0),IF(Y6>0,1,0),IF(Z6>0,1,0),IF(AA6>0,1,0),IF(AB6>0,1,0),IF(AC6>0,1,0),IF(AD6>0,1,0)) -> 6 | D6: =INDIRECT(ADDRESS(2,COLUMN('Référence Polluto-Sensibilté'!F:F)-1+IF(C6=1,1,IF(C6<=5,2,IF(C6<=10,3,IF(C6<=15,4,IF(C6>=16,5,"ERROR"))))),1,1,"Référence Polluto-Sensibilté")) -> 6 à 10 espèces | E6: =ROW('Référence Polluto-Sensibilté'!$2:$2)+_xlfn.IFS(H6>0,0,I6>0,1,J6>0,2,K6>0,3,L6>0,4,M6>0,5,N6>0,6,O6>0,7,P6>0,8,Q6>0,9,R6>0,10,S6>0,11,T6>0,12,U6>0,13,V6>0,14,W6>0,15,X6>0,16,Y6>0,17,Z6>0,18,AA6>0,19,AB6>0,20) -> 3 | F6: =HLOOKUP(D6,'Référence Polluto-Sensibilté'!$F$2:$J$24,E6+1,FALSE) -> 6.5 | G6: =IF(F6<=2.5,"Pollution très forte",IF(F6<=5,"Pollution forte",IF(F6<=7.5,"Pollution faible","Pollution très faible à nulle"))) -> Pollution faible | H6: 0 | I6: =15+44+2+20+36+2 -> 119 | J6: 0 | K6: 6 | L6: 0 | M6: 0 | N6: 0 | O6: 0 | P6: 0 | Q6: 0 | R6: 0 | S6: 9 | T6: 3 | U6: 2 | V6: 0 | W6: 0 | X6: 4 | Y6: 0 | Z6: 0 | AA6: 0 | AB6: 0 | AC6: 0
A7: Gorges d'Alagnon | B7: 45139 | C7: =SUM(IF(H7>0,1,0),IF(I7>0,1,0),IF(J7>0,1,0),IF(K7>0,1,0),IF(L7>0,1,0),IF(M7>0,1,0),IF(N7>0,1,0),IF(O7>0,1,0),IF(P7>0,1,0),IF(Q7>0,1,0),IF(R7>0,1,0),IF(S7>0,1,0),IF(T7>0,1,0),IF(U7>0,1,0),IF(V7>0,1,0),IF(W7>0,1,0),IF(X7>0,1,0),IF(Y7>0,1,0),IF(Z7>0,1,0),IF(AA7>0,1,0),IF(AB7>0,1,0),IF(AC7>0,1,0),IF(AD7>0,1,0)) -> 7 | D7: =INDIRECT(ADDRESS(2,COLUMN('Référence Polluto-Sensibilté'!F:F)-1+IF(C7=1,1,IF(C7<=5,2,IF(C7<=10,3,IF(C7<=15,4,IF(C7>=16,5,"ERROR"))))),1,1,"Référence Polluto-Sensibilté")) -> 6 à 10 espèces | E7: =ROW('Référence Polluto-Sensibilté'!$2:$2)+_xlfn.IFS(H7>0,0,I7>0,1,J7>0,2,K7>0,3,L7>0,4,M7>0,5,N7>0,6,O7>0,7,P7>0,8,Q7>0,9,R7>0,10,S7>0,11,T7>0,12,U7>0,13,V7>0,14,W7>0,15,X7>0,16,Y7>0,17,Z7>0,18,AA7>0,19,AB7>0,20) -> 2 | F7: =HLOOKUP(D7,'Référence Polluto-Sensibilté'!$F$2:$J$24,E7+1,FALSE) -> 6.5 | G7: =IF(F7<=2.5,"Pollution très forte",IF(F7<=5,"Pollution forte",IF(F7<=7.5,"Pollution faible","Pollution très faible à nulle"))) -> Pollution faible | H7: 8 | I7: 0 | J7: 0 | K7: 5 | L7: 0 | M7: 0 | N7: 1 | O7: 0 | P7: 0 | Q7: 0 | R7: 0 | S7: 1 | T7: 1 | U7: 0 | V7: 0 | W7: 0 | X7: 1 | Y7: 1 | Z7: 0 | AA7: 0 | AB7: 0 | AC7: 0
A8: Camping d'Alagnon | B8: 45140 | C8: =SUM(IF(H8>0,1,0),IF(I8>0,1,0),IF(J8>0,1,0),IF(K8>0,1,0),IF(L8>0,1,0),IF(M8>0,1,0),IF(N8>0,1,0),IF(O8>0,1,0),IF(P8>0,1,0),IF(Q8>0,1,0),IF(R8>0,1,0),IF(S8>0,1,0),IF(T8>0,1,0),IF(U8>0,1,0),IF(V8>0,1,0),IF(W8>0,1,0),IF(X8>0,1,0),IF(Y8>0,1,0),IF(Z8>0,1,0),IF(AA8>0,1,0),IF(AB8>0,1,0),IF(AC8>0,1,0),IF(AD8>0,1,0)) -> 8 | D8: =INDIRECT(ADDRESS(2,COLUMN('Référence Polluto-Sensibilté'!F:F)-1+IF(C8=1,1,IF(C8<=5,2,IF(C8<=10,3,IF(C8<=15,4,IF(C8>=16,5,"ERROR"))))),1,1,"Référence Polluto-Sensibilté")) -> 6 à 10 espèces | E8: =ROW('Référence Polluto-Sensibilté'!$2:$2)+_xlfn.IFS(H8>0,0,I8>0,1,J8>0,2,K8>0,3,L8>0,4,M8>0,5,N8>0,6,O8>0,7,P8>0,8,Q8>0,9,R8>0,10,S8>0,11,T8>0,12,U8>0,13,V8>0,14,W8>0,15,X8>0,16,Y8>0,17,Z8>0,18,AA8>0,19,AB8>0,20) -> 2 | F8: =HLOOKUP(D8,'Référence Polluto-Sensibilté'!$F$2:$J$24,E8+1,FALSE) -> 6.5 | G8: =IF(F8<=2.5,"Pollution très forte",IF(F8<=5,"Pollution forte",IF(F8<=7.5,"Pollution faible","Pollution très faible à nulle"))) -> Pollution faible | H8: 17 | I8: 16 | J8: 1 | K8: 12 | L8: 0 | M8: 0 | N8: 0 | O8: 0 | P8: 3 | Q8: 0 | R8: 2 | S8: 0 | T8: 2 | U8: 0 | V8: 0 | W8: 0 | X8: 0 | Y8: 0 | Z8: 0 | AA8: 0 | AB8: 0 | AC8: 1
A9: TEST | B9: 45141 | C9: =SUM(IF(H9>0,1,0),IF(I9>0,1,0),IF(J9>0,1,0),IF(K9>0,1,0),IF(L9>0,1,0),IF(M9>0,1,0),IF(N9>0,1,0),IF(O9>0,1,0),IF(P9>0,1,0),IF(Q9>0,1,0),IF(R9>0,1,0),IF(S9>0,1,0),IF(T9>0,1,0),IF(U9>0,1,0),IF(V9>0,1,0),IF(W9>0,1,0),IF(X9>0,1,0),IF(Y9>0,1,0),IF(Z9>0,1,0),IF(AA9>0,1,0),IF(AB9>0,1,0),IF(AC9>0,1,0),IF(AD9>0,1,0)) -> 2 | D9: =INDIRECT(ADDRESS(2,COLUMN('Référence Polluto-Sensibilté'!F:F)-1+IF(C9=1,1,IF(C9<=5,2,IF(C9<=10,3,IF(C9<=15,4,IF(C9>=16,5,"ERROR"))))),1,1,"Référence Polluto-Sensibilté")) -> 2 à 5 espèces | E9: =ROW('Référence Polluto-Sensibilté'!$2:$2)+_xlfn.IFS(H9>0,0,I9>0,1,J9>0,2,K9>0,3,L9>0,4,M9>0,5,N9>0,6,O9>0,7,P9>0,8,Q9>0,9,R9>0,10,S9>0,11,T9>0,12,U9>0,13,V9>0,14,W9>0,15,X9>0,16,Y9>0,17,Z9>0,18,AA9>0,19,AB9>0,20) -> 14 | F9: =HLOOKUP(D9,'Référence Polluto-Sensibilté'!$F$2:$J$24,E9+1,FALSE) -> 2 | G9: =IF(F9<=2.5,"Pollution très forte",IF(F9<=5,"Pollution forte",IF(F9<=7.5,"Pollution faible","Pollution très faible à nulle"))) -> Pollution très forte | H9: 0 | I9: 0 | J9: 0 | K9: 0 | L9: 0 | M9: 0 | N9: 0 | O9: 0 | P9: 0 | Q9: 0 | R9: 0 | S9: 0 | T9: 2 | U9: 0 | V9: 0 | W9: 0 | X9: 0 | Y9: 0 | Z9: 0 | AA9: 0 | AB9: 0 | AC9: 1
B12: été 2022 | C12: été 2023
A13: Font d'Alagnon | B13: =F3 -> 6.5 | C13: =F5 -> 6.5
A14: Gorges d'Alagnon | B14: =F7 -> 6.5 | C14: =F7 -> 6.5
A15: Chapelle d'Alagnon | B15: =F4 -> 4 | C15: =F6 -> 6.5

Sheet Feuil1
A1: 70 | B1: =CHAR(A1) -> F | C1: 0 | D1: =B1&"3"&">0;"&C1&";" -> F3>0;0;
A2: 71 | B2: =CHAR(A2) -> G | C2: 1 | D2: =B2&"3"&">0;"&C2&";" -> G3>0;1;
A3: 72 | B3: =CHAR(A3) -> H | C3: 2 | D3: =B3&"3"&">0;"&C3&";" -> H3>0;2;
A4: 73 | B4: =CHAR(A4) -> I | C4: 3 | D4: =B4&"3"&">0;"&C4&";" -> I3>0;3;
A5: 74 | B5: =CHAR(A5) -> J | C5: 4 | D5: =B5&"3"&">0;"&C5&";" -> J3>0;4;
A6: 75 | B6: =CHAR(A6) -> K | C6: 5 | D6: =B6&"3"&">0;"&C6&";" -> K3>0;5;
A7: 76 | B7: =CHAR(A7) -> L | C7: 6 | D7: =B7&"3"&">0;"&C7&";" -> L3>0;6;
A8: 77 | B8: =CHAR(A8) -> M | C8: 7 | D8: =B8&"3"&">0;"&C8&";" -> M3>0;7;
A9: 78 | B9: =CHAR(A9) -> N | C9: 8 | D9: =B9&"3"&">0;"&C9&";" -> N3>0;8;
A10: 79 | B10: =CHAR(A10) -> O | C10: 9 | D10: =B10&"3"&">0;"&C10&";" -> O3>0;9;
A11: 80 | B11: =CHAR(A11) -> P | C11: 10 | D11: =B11&"3"&">0;"&C11&";" -> P3>0;10;
A12: 81 | B12: =CHAR(A12) -> Q | C12: 11 | D12: =B12&"3"&">0;"&C12&";" -> Q3>0;11;
... A33: 102 | B33: =CHAR(A33) -> f | C33: 32 | D33: =B33&"3"&">0;"&C33&";" -> f3>0;32;
A34: 103 | B34: =CHAR(A34) -> g | C34: 33 | D34: =B34&"3"&">0;"&C34 -> g3>0;33

Sheet Référence Polluto-Sensibilté
E1: Détermination de l'indice
A2: Ordre de Polluto-Sensibilité | B2: Ordre | C2: Ordre de Polluto-Sensibilité de l'espèce | D2: Espèce | E2: Compte dans la détermination de l'indice ? | F2: 1 espèce | G2: 2 à 5 espèces | H2: 6 à 10 espèces | I2: 11 à 15 espèces | J2: Sup. à 16 espèces | K2: Commentaire
A3: 1 | B3: Plécoptères | C3: 1 | D3: Larve de Perle | E3: TRUE | F3: 5 | G3: =(6+7)/2 -> 6.5 | H3: =(7+8)/2 -> 7.5 | I3: =(8+9)/2 -> 8.5 | J3: =(9+10)/2 -> 9.5 | K3: Notes moyennées des lignes du groupe faunistique 1
A4: 2 | B4: Trichoptères | C4: 2 | D4: Larve de Trichoptère à fourreau | E4: TRUE | F4: 5 | G4: 5.5 | H4: 6.5 | I4: 7.5 | J4: 8.5
A5: 2 | B5: Trichoptères | C5: 3 | D5: Larve de Trichoptère sans fourreau | E5: TRUE | F5: 5 | G5: 5.5 | H5: 6.5 | I5: 7.5 | J5: 8.5
A6: 3 | B6: Ephéméroptères | C6: 4 | D6: Larve d'Ephémère | E6: TRUE | F6: 3 | G6: 4 | H6: 5 | I6: 6 | J6: 7
A7: 4 | B7: Crustacés | C7: 5 | D7: Gammare | E7: TRUE | F7: 3 | G7: 4 | H7: 5 | I7: 6 | J7: 7
A8: 5 | B8: Crustacés | C8: 6 | D8: Aselle | E8: TRUE | F8: 2 | G8: 3 | H8: 4 | I8: 5 | J8: N/A
A9: 4 | B9: Mollusques | C9: 7 | D9: Limnée | E9: TRUE | F9: 3 | G9: 4 | H9: 5 | I9: 6 | J9: 7
A10: 4 | B10: Mollusques | C10: 8 | D10: Ancyle | E10: TRUE | F10: 2 | G10: 3 | H10: 4 | I10: 5 | J10: N/A
A11: N/A | B11: Odonates | C11: 9 | D11: Larve de Demoiselle | E11: TRUE | F11: 3 | G11: 4 | H11: 5 | I11: 6 | J11: 7
A12: N/A | B12: Odonates | C12: 10 | D12: Larve de Libellule | E12: TRUE | F12: 3 | G12: 4 | H12: 5 | I12: 6 | J12: 7
A13: N/A | B13: Plathelmintes | C13: 11 | D13: Planaire | E13: FALSE
A14: 5 | B14: Achètes | C14: 12 | D14: Sangsue | E14: TRUE | F14: 2 | G14: 3 | H14: 4 | I14: 5 | J14: N/A
A15: 6 | B15: Diptères | C15: 13 | D15: Larve de Chironome | E15: TRUE | F15: 1 | G15: 2 | H15: 3 | I15: N/A | J15: N/A
A16: 6 | B16: Diptères | C16: 14 | D16: Larve de Simulie | E16: TRUE | F16: 1 | G16: 2 | H16: 3 | I16: N/A | J16: N/A
A17: 6 | B17: Diptères | C17: 15 | D17: Autres larves de Diptères | E17: TRUE | F17: 0 | G17: 1 | H17: 1 | I17: N/A | J17: N/A
A18: N/A | B18: Mégaloptères | C18: 16 | D18: Larve de Sialis | E18: FALSE
A19: N/A | B19: Coléoptères | C19: 17 | D19: Larve de Dytique | E19: FALSE
A20: N/A | B20: Coléoptères | C20: 18 | D20: Larve de Coléoptère aquatique | E20: FALSE
A21: N/A | B21: Hétéroptères | C21: 19 | D21: Nèpe | E21: FALSE
A22: N/A | B22: Hétéroptères | C22: 20 | D22: Punaise aquatique (Notonecte) | E22: FALSE
A23: N/A | B23: Hétéroptères | C23: 21 | D23: Gerris | E23: FALSE
A24: N/A | B24: Oligochètes | C24: 22 | D24: Ver | E24: FALSE

Sheet Juillet 2023
A4: espèces | B4: font d'Alagnon | C4: chap. d'Alagnon | D4: total ( lign )
A5: larve de Perle | B5: 25 | D5: =B5+C5 -> 25
A6: larve de Trichoptère | B6: 67 | C6: =15+44+2+20+36+2 -> 119 | D6: =B6+C6 -> 186
A7: larve d'Ephémère | B7: =15+2+25+21 -> 63 | C7: 6 | D7: =B7+C7 -> 69
A8: larve de Dytique | C8: 4 | D8: =B8+C8 -> 4
A9: larve Coléoptère | B9: 1 | D9: =B9+C9 -> 1
A10: larve de Demoiselle | D10: =B10+C10 -> 0
A11: Planaire | D11: =B11+C11 -> 0
A12: larve de Chironome | C12: 3 | D12: =B12+C12 -> 3
A13: Oligochètes (Ver) | D13: =B13+C13 -> 0
A14: larve de Simulie | C14: 2 | D14: =B14+C14 -> 2
A15: larve de Sialis | D15: =B15+C15 -> 0
A16: Gerris | D16: =B16+C16 -> 0
A17: Molusques Limnée | B17: 1 | D17: =B17+C17 -> 1
A18: Achetes Sangsue | B18: 4 | C18: 9 | D18: =B18+C18 -> 13
A19: total ( col ) | B19: =SUM(B5:B18) -> 161 | C19: =SUM(C5:C18) -> 143 | D19: =SUM(D5:D18) -> 304
B23: 7 personnes ont opéré les prélèvements pendant YY min
B24: comptage réalisé selon un protocole avec soulèvement de pierres
B25: prise de note difficilement déchiffrable, erreurs très probable à la reprise des data

Sheet Aout 2023
A4: espèces | B4: Chapelle d'Alagnon | C4: Font d'Alagnon | D4: total ( lign )
A5: larve de Perle | B5: 8 | C5: 17 | D5: =B5+C5 -> 25
A6: larve de Trichoptère | B6: 0 | C6: 17 | D6: =B6+C6 -> 17
A7: larve d'Ephémère | B7: 5 | C7: 12 | D7: =B7+C7 -> 17
A8: larve de Dytique | B8: 1 | C8: 0 | D8: =B8+C8 -> 1
A9: larve Coléoptère | B9: 1 | C9: 0 | D9: =B9+C9 -> 1
A10: larve de Demoiselle | B10: 0 | C10: 3 | D10: =B10+C10 -> 3
A11: Planaire | B11: 0 | C11: 2 | D11: =B11+C11 -> 2
A12: larve de Chironome | B12: 1 | C12: 2 | D12: =B12+C12 -> 3
A13: Oligochètes (Ver) | B13: 0 | C13: 1 | D13: =B13+C13 -> 1
A14: larve de Simulie | B14: 0 | C14: 0 | D14: =B14+C14 -> 0
A15: larve de Sialis | B15: 0 | C15: 0 | D15: =B15+C15 -> 0
A16: Gerris | B16: 0 | C16: 0 | D16: =B16+C16 -> 0
... A18: Achetes Sangsue | B18: 1 | C18: 0 | D18: =B18+C18 -> 1
A19: total ( col ) | B19: =SUM(B5:B18) -> 18 | C19: =SUM(C5:C18) -> 54 | D19: =SUM(D5:D18) -> 72
B23: 6 personnes ont opéré les prélèvements pendant 30 min

Sheet Feuil3
A1: Date de prélèvement | B1: (Plusieurs éléments)
B3: Étiquettes de colonnes
A4: Valeurs | B4: Camping d'Alagnon | C4: Gorges d'Alagnon | D4: Font de l'Alagnon | E4: Total général
A5: Somme de Larve de Trichoptère à fourreau | B5: 6 | C5: 6 | D5: 0 | E5: 12
A6: Somme de Larve de Trichoptère sans fourreau | B6: 3 | C6: 0 | D6: 1 | E6: 4
A7: Somme de Aselle | B7: 0 | C7: 0 | D7: 1 | E7: 1
A8: Somme de Larve de Demoiselle | B8: 2 | C8: 0 | D8: 4 | E8: 6
A9: Somme de Larve de Perle | B9: 3 | C9: 1 | D9: 20 | E9: 24
A10: Somme de Larve d'Ephémère | B10: 3 | C10: 5 | D10: 40 | E10: 48
A11: Somme de Ver | B11: 0 | C11: 2 | D11: 1 | E11: 3
A12: Somme de Gerris | B12: 11 | C12: 0 | D12: 0 | E12: 11
A13: Somme de Larve de Dytique | B13: 0 | C13: 1 | D13: 1 | E13: 2
A14: Somme de Larve de Sialis | B14: 0 | C14: 0 | D14: 0 | E14: 0
A15: Somme de Autres larves de Diptères | B15: 1 | C15: 0 | D15: 2 | E15: 3
A16: Somme de Larve de Simulie | B16: 0 | C16: 0 | D16: 3 | E16: 3

Sheet Prélevements juillet 2024
H1: Plécoptères | I1: Trichoptères | J1: Trichoptères | K1: Ephéméroptères | L1: Crustacés | M1: Crustacés | N1: Mollusques | O1: Mollusques | P1: Odonates | Q1: Odonates | R1: Plathelmintes | S1: Achètes | T1: Diptères | U1: Diptères | V1: Diptères | W1: Mégaloptères | X1: Coléoptères | Y1: Coléoptères | Z1: Hétéroptères | AA1: Hétéroptères | AB1: Hétéroptères | AC1: Oligochètes
A2: Lieu | B2: Date de prélèvement | C2: Nombre d'Espèces trouvrées | D2: Colonne de référence du nombre d'espèces recensées | E2: Ligne de l'onglet Excell de Référence de Polluto-Sensibilité | F2: Indice de qualité biotique (note sur 10) | G2: Interprétation de l'indice | H2: Larve de Perle | I2: Larve de Trichoptère à fourreau | J2: Larve de Trichoptère sans fourreau | K2: Larve d'Ephémère | L2: Gammare | M2: Aselle | N2: Limnée | O2: Ancyle | P2: Larve de Demoiselle | Q2: Larve de Libellule | R2: Planaire | S2: Sangsue | T2: Larve de Chironome | U2: Larve de Simulie | V2: Autres larves de Diptères | W2: Larve de Sialis | X2: Larve de Dytique | Y2: Larve de Coléoptère aquatique | Z2: Nèpe | AA2: Punaise aquatique (Notonecte) | AB2: Gerris | AC2: Ver
A3: Gorges d'Alagnon | B3: 45503 | C3: 5 | D3: =INDIRECT(ADDRESS(2,COLUMN('Référence Polluto-Sensibilté'!F:F)-1+IF(C3=1,1,IF(C3<=5,2,IF(C3<=10,3,IF(C3<=15,4,IF(C3>=16,5,"ERROR"))))),1,1,"Référence Polluto-Sensibilté")) -> 2 à 5 espèces | E3: =ROW('Référence Polluto-Sensibilté'!$2:$2)+_xlfn.IFS(H3>0,0,I3>0,1,J3>0,2,K3>0,3,L3>0,4,M3>0,5,N3>0,6,O3>0,7,P3>0,8,Q3>0,9,R3>0,10,S3>0,11,T3>0,12,U3>0,13,V3>0,14,W3>0,15,X3>0,16,Y3>0,17,Z3>0,18,AA3>0,19,AB3>0,20) -> 2 | F3: =HLOOKUP(D3,'Référence Polluto-Sensibilté'!$F$2:$J$24,E3+1,FALSE) -> 5.5 | G3: =IF(F3<=2.5,"Pollution très forte",IF(F3<=5,"Pollution forte",IF(F3<=7.5,"Pollution faible","Pollution très faible à nulle"))) -> Pollution faible | H3: 1 | I3: 6 | J3: 0 | K3: 5 | L3: 0 | M3: 0 | N3: 0 | O3: 0 | P3: 0 | Q3: 0 | R3: 0 | S3: 0 | T3: 0 | U3: 0 | V3: 0 | W3: 0 | X3: 1 | Y3: 0 | Z3: 0 | AA3: 0 | AB3: 0 | AC3: 2
A4: Camping d'Alagnon | B4: 45502 | C4: 7 | D4: =INDIRECT(ADDRESS(2,COLUMN('Référence Polluto-Sensibilté'!F:F)-1+IF(C4=1,1,IF(C4<=5,2,IF(C4<=10,3,IF(C4<=15,4,IF(C4>=16,5,"ERROR"))))),1,1,"Référence Polluto-Sensibilté")) -> 6 à 10 espèces | E4: =ROW('Référence Polluto-Sensibilté'!$2:$2)+_xlfn.IFS(H4>0,0,I4>0,1,J4>0,2,K4>0,3,L4>0,4,M4>0,5,N4>0,6,O4>0,7,P4>0,8,Q4>0,9,R4>0,10,S4>0,11,T4>0,12,U4>0,13,V4>0,14,W4>0,15,X4>0,16,Y4>0,17,Z4>0,18,AA4>0,19,AB4>0,20) -> 2 | F4: =HLOOKUP(D4,'Référence Polluto-Sensibilté'!$F$2:$J$24,E4+1,FALSE) -> 6.5 | G4: =IF(F4<=2.5,"Pollution très forte",IF(F4<=5,"Pollution forte",IF(F4<=7.5,"Pollution faible","Pollution très faible à nulle"))) -> Pollution faible | H4: 3 | I4: 6 | J4: 3 | K4: 3 | L4: 0 | M4: 0 | N4: 0 | O4: 0 | P4: 2 | Q4: 0 | R4: 0 | S4: 0 | T4: 0 | U4: 0 | V4: 1 | W4: 0 | X4: 0 | Y4: 0 | Z4: 0 | AA4: 0 | AB4: 11 | AC4: 0
A5: Font de l'Alagnon | B5: 45504 | C5: 9 | D5: =INDIRECT(ADDRESS(2,COLUMN('Référence Polluto-Sensibilté'!F:F)-1+IF(C5=1,1,IF(C5<=5,2,IF(C5<=10,3,IF(C5<=15,4,IF(C5>=16,5,"ERROR"))))),1,1,"Référence Polluto-Sensibilté")) -> 6 à 10 espèces | E5: =ROW('Référence Polluto-Sensibilté'!$2:$2)+_xlfn.IFS(H5>0,0,I5>0,1,J5>0,2,K5>0,3,L5>0,4,M5>0,5,N5>0,6,O5>0,7,P5>0,8,Q5>0,9,R5>0,10,S5>0,11,T5>0,12,U5>0,13,V5>0,14,W5>0,15,X5>0,16,Y5>0,17,Z5>0,18,AA5>0,19,AB5>0,20) -> 2 | F5: =HLOOKUP(D5,'Référence Polluto-Sensibilté'!$F$2:$J$24,E5+1,FALSE) -> 6.5 | G5: =IF(F5<=2.5,"Pollution très forte",IF(F5<=5,"Pollution forte",IF(F5<=7.5,"Pollution faible","Pollution très faible à nulle"))) -> Pollution faible | H5: 20 | I5: 0 | J5: 1 | K5: 40 | L5: 0 | M5: 1 | N5: 0 | O5: 0 | P5: 4 | Q5: 0 | R5: 0 | S5: 0 | T5: 0 | U5: 3 | V5: 2 | W5: 0 | X5: 1 | Y5: 0 | Z5: 0 | AA5: 0 | AB5: 0 | AC5: 1
A6: Font d'Alagnon | B6: 45108 | C6: =SUM(IF(H6>0,1,0),IF(I6>0,1,0),IF(J6>0,1,0),IF(K6>0,1,0),IF(L6>0,1,0),IF(M6>0,1,0),IF(N6>0,1,0),IF(O6>0,1,0),IF(P6>0,1,0),IF(Q6>0,1,0),IF(R6>0,1,0),IF(S6>0,1,0),IF(T6>0,1,0),IF(U6>0,1,0),IF(V6>0,1,0),IF(W6>0,1,0),IF(X6>0,1,0),IF(Y6>0,1,0),IF(Z6>0,1,0),IF(AA6>0,1,0),IF(AB6>0,1,0),IF(AC6>0,1,0),IF(AD6>0,1,0)) -> 7 | D6: =INDIRECT(ADDRESS(2,COLUMN('Référence Polluto-Sensibilté'!F:F)-1+IF(C6=1,1,IF(C6<=5,2,IF(C6<=10,3,IF(C6<=15,4,IF(C6>=16,5,"ERROR"))))),1,1,"Référence Polluto-Sensibilté")) -> 6 à 10 espèces | E6: =ROW('Référence Polluto-Sensibilté'!$2:$2)+_xlfn.IFS(H6>0,0,I6>0,1,J6>0,2,K6>0,3,L6>0,4,M6>0,5,N6>0,6,O6>0,7,P6>0,8,Q6>0,9,R6>0,10,S6>0,11,T6>0,12,U6>0,13,V6>0,14,W6>0,15,X6>0,16,Y6>0,17,Z6>0,18,AA6>0,19,AB6>0,20) -> 2 | F6: =HLOOKUP(D6,'Référence Polluto-Sensibilté'!$F$2:$J$24,E6+1,FALSE) -> 6.5 | G6: =IF(F6<=2.5,"Pollution très forte",IF(F6<=5,"Pollution forte",IF(F6<=7.5,"Pollution faible","Pollution très faible à nulle"))) -> Pollution faible | H6: 25 | I6: =ROUNDDOWN(67/2,0) -> 33 | J6: =ROUNDUP(67/2,0) -> 34 | K6: =15+2+25+21 -> 63 | L6: 0 | M6: 0 | N6: 1 | O6: 0 | P6: 0 | Q6: 0 | R6: 0 | S6: 4 | T6: 0 | U6: 0 | V6: 0 | W6: 0 | X6: 0 | Y6: 1 | Z6: 0 | AA6: 0 | AB6: 0 | AC6: 0
A7: Gorges d'Alagnon | B7: 45139 | C7: =SUM(IF(H7>0,1,0),IF(I7>0,1,0),IF(J7>0,1,0),IF(K7>0,1,0),IF(L7>0,1,0),IF(M7>0,1,0),IF(N7>0,1,0),IF(O7>0,1,0),IF(P7>0,1,0),IF(Q7>0,1,0),IF(R7>0,1,0),IF(S7>0,1,0),IF(T7>0,1,0),IF(U7>0,1,0),IF(V7>0,1,0),IF(W7>0,1,0),IF(X7>0,1,0),IF(Y7>0,1,0),IF(Z7>0,1,0),IF(AA7>0,1,0),IF(AB7>0,1,0),IF(AC7>0,1,0),IF(AD7>0,1,0)) -> 7 | D7: =INDIRECT(ADDRESS(2,COLUMN('Référence Polluto-Sensibilté'!F:F)-1+IF(C7=1,1,IF(C7<=5,2,IF(C7<=10,3,IF(C7<=15,4,IF(C7>=16,5,"ERROR"))))),1,1,"Référence Polluto-Sensibilté")) -> 6 à 10 espèces | E7: =ROW('Référence Polluto-Sensibilté'!$2:$2)+_xlfn.IFS(H7>0,0,I7>0,1,J7>0,2,K7>0,3,L7>0,4,M7>0,5,N7>0,6,O7>0,7,P7>0,8,Q7>0,9,R7>0,10,S7>0,11,T7>0,12,U7>0,13,V7>0,14,W7>0,15,X7>0,16,Y7>0,17,Z7>0,18,AA7>0,19,AB7>0,20) -> 2 | F7: =HLOOKUP(D7,'Référence Polluto-Sensibilté'!$F$2:$J$24,E7+1,FALSE) -> 6.5 | G7: =IF(F7<=2.5,"Pollution très forte",IF(F7<=5,"Pollution forte",IF(F7<=7.5,"Pollution faible","Pollution très faible à nulle"))) -> Pollution faible | H7: 8 | I7: 0 | J7: 0 | K7: 5 | L7: 0 | M7: 0 | N7: 1 | O7: 0 | P7: 0 | Q7: 0 | R7: 0 | S7: 1 | T7: 1 | U7: 0 | V7: 0 | W7: 0 | X7: 1 | Y7: 1 | Z7: 0 | AA7: 0 | AB7: 0 | AC7: 0
A8: Camping d'Alagnon | B8: 45140 | C8: =SUM(IF(H8>0,1,0),IF(I8>0,1,0),IF(J8>0,1,0),IF(K8>0,1,0),IF(L8>0,1,0),IF(M8>0,1,0),IF(N8>0,1,0),IF(O8>0,1,0),IF(P8>0,1,0),IF(Q8>0,1,0),IF(R8>0,1,0),IF(S8>0,1,0),IF(T8>0,1,0),IF(U8>0,1,0),IF(V8>0,1,0),IF(W8>0,1,0),IF(X8>0,1,0),IF(Y8>0,1,0),IF(Z8>0,1,0),IF(AA8>0,1,0),IF(AB8>0,1,0),IF(AC8>0,1,0),IF(AD8>0,1,0)) -> 8 | D8: =INDIRECT(ADDRESS(2,COLUMN('Référence Polluto-Sensibilté'!F:F)-1+IF(C8=1,1,IF(C8<=5,2,IF(C8<=10,3,IF(C8<=15,4,IF(C8>=16,5,"ERROR"))))),1,1,"Référence Polluto-Sensibilté")) -> 6 à 10 espèces | E8: =ROW('Référence Polluto-Sensibilté'!$2:$2)+_xlfn.IFS(H8>0,0,I8>0,1,J8>0,2,K8>0,3,L8>0,4,M8>0,5,N8>0,6,O8>0,7,P8>0,8,Q8>0,9,R8>0,10,S8>0,11,T8>0,12,U8>0,13,V8>0,14,W8>0,15,X8>0,16,Y8>0,17,Z8>0,18,AA8>0,19,AB8>0,20) -> 2 | F8: =HLOOKUP(D8,'Référence Polluto-Sensibilté'!$F$2:$J$24,E8+1,FALSE) -> 6.5 | G8: =IF(F8<=2.5,"Pollution très forte",IF(F8<=5,"Pollution forte",IF(F8<=7.5,"Pollution faible","Pollution très faible à nulle"))) -> Pollution faible | H8: 17 | I8: 16 | J8: 1 | K8: 12 | L8: 0 | M8: 0 | N8: 0 | O8: 0 | P8: 3 | Q8: 0 | R8: 2 | S8: 0 | T8: 2 | U8: 0 | V8: 0 | W8: 0 | X8: 0 | Y8: 0 | Z8: 0 | AA8: 0 | AB8: 0 | AC8: 1
B11: été 2024 | C11: été 2023
A12: Font d'Alagnon | B12: =F5 -> 6.5 | C12: =F6 -> 6.5
A13: Gorges d'Alagnon | B13: =F3 -> 5.5 | C13: =F7 -> 6.5
A14: Camping d'Alagnon | B14: =F4 -> 6.5 | C14: =F8 -> 6.5
